BEGIN:VCALENDAR
VERSION:2.0
PRODID:-//The Fusilier Complex - ECPv6.15.20//NONSGML v1.0//EN
CALSCALE:GREGORIAN
METHOD:PUBLISH
X-WR-CALNAME:The Fusilier Complex
X-ORIGINAL-URL:https://fusiliercomplex.com
X-WR-CALDESC:Events for The Fusilier Complex
REFRESH-INTERVAL;VALUE=DURATION:PT1H
X-Robots-Tag:noindex
X-PUBLISHED-TTL:PT1H
BEGIN:VTIMEZONE
TZID:America/Chicago
BEGIN:DAYLIGHT
TZOFFSETFROM:-0600
TZOFFSETTO:-0500
TZNAME:CDT
DTSTART:20200308T080000
END:DAYLIGHT
BEGIN:STANDARD
TZOFFSETFROM:-0500
TZOFFSETTO:-0600
TZNAME:CST
DTSTART:20201101T070000
END:STANDARD
BEGIN:DAYLIGHT
TZOFFSETFROM:-0600
TZOFFSETTO:-0500
TZNAME:CDT
DTSTART:20210314T080000
END:DAYLIGHT
BEGIN:STANDARD
TZOFFSETFROM:-0500
TZOFFSETTO:-0600
TZNAME:CST
DTSTART:20211107T070000
END:STANDARD
BEGIN:DAYLIGHT
TZOFFSETFROM:-0600
TZOFFSETTO:-0500
TZNAME:CDT
DTSTART:20220313T080000
END:DAYLIGHT
BEGIN:STANDARD
TZOFFSETFROM:-0500
TZOFFSETTO:-0600
TZNAME:CST
DTSTART:20221106T070000
END:STANDARD
BEGIN:DAYLIGHT
TZOFFSETFROM:-0600
TZOFFSETTO:-0500
TZNAME:CDT
DTSTART:20230312T080000
END:DAYLIGHT
BEGIN:STANDARD
TZOFFSETFROM:-0500
TZOFFSETTO:-0600
TZNAME:CST
DTSTART:20231105T070000
END:STANDARD
END:VTIMEZONE
BEGIN:VEVENT
DTSTART;TZID=America/Chicago:20220219T070000
DTEND;TZID=America/Chicago:20220219T130000
DTSTAMP:20260422T072857
CREATED:20211230T043004Z
LAST-MODIFIED:20211230T043004Z
UID:3113-1645254000-1645275600@fusiliercomplex.com
SUMMARY:22 LONG RANGE MATCH - Green Range
DESCRIPTION:  \n\nRegistration 08:00 Saturday\, February 19th\nFusilier Complex\, 301 Ismael Road\, Arnaudville\, LA 70512\nYou will be engaging steel targets at varying distances (25-300 yards)\, and shooting from different positions with a time limit of 90 seconds per stage. Any rifle\, bolt action\, lever action or semi-auto with 10 round capacity can be used.\nBring 100 rounds of your favorite ammo along with a bipod and rear bag. (Not mandatory\, but will help with getting more impacts)\nChildren ages 8-12 will require direct adult supervision. (Min age of 8)\nArrive by 08:00 in order to sign up\, get assigned to a squad and attend Safety Briefing.\nMatch will start @ 09:00\nCost: $20 / person\nLong Range Match will be open to Fusilier members\, non-members & guests. (Non-members & guests will be required to sign waiver prior to competing.)\nNote: Only 22 Long Rifle Ammo Can Be Used! \n\n Lunch will be provided. \n       Contact: Match Director Keith Phillips @ xkeithphillips@msn.com
URL:https://fusiliercomplex.com/event/22-long-range-match-green-range/
LOCATION:The Fusilier Complex\, 301 Ismael Rd\, Arnaudville\, LA\, 70512\, United States
END:VEVENT
BEGIN:VEVENT
DTSTART;TZID=America/Chicago:20211009T080000
DTEND;TZID=America/Chicago:20211009T130000
DTSTAMP:20260422T072857
CREATED:20210516T021400Z
LAST-MODIFIED:20210729T173418Z
UID:2630-1633766400-1633784400@fusiliercomplex.com
SUMMARY:22 LR Precision Match - Green Range
DESCRIPTION:22 LR Precision Match \n\n08:00 Saturday\, October 9th\n\n  \n\nFusilier Complex\, 301 Ismael Road\, Arnaudville\, LA 70512\n\n  \n\nYou will be engaging steel targets at varying distances (25-150 yards)\, and shooting from different positions with a time limit of 90 seconds per stage. Any rifle\, bolt action\, lever action or semi-auto with 10 round capacity can be used.\n\n  \n\nBring 100 rounds of your favorite ammo along with a bipod and rear bag. (Not mandatory\, but will help with getting more impacts)\n\n  \n\nChildren ages 8-12 will require direct adult supervision. (Min age of 8)\n\n  \n\nArrive by 07:00 in order to sign up\, get assigned to a squad and attend Safety Briefing.\n\n  \n\nCost: $20 / person\n\n  \n\n22 LR Precision Match will be open to Fusilier members\, non-members & guests. (Non-members & guests will be required to sign waiver prior to competing.)\n\n  \n\nNote: Only 22 Long Rifle Ammo Can Be Used! \n\n  \n      Contact: Match Director Keith Phillips @ xkeithphillips@msn.com \n 
URL:https://fusiliercomplex.com/event/22-lr-precision-match/
END:VEVENT
END:VCALENDAR