BEGIN:VCALENDAR
VERSION:2.0
PRODID:-//The Fusilier Complex - ECPv6.15.20//NONSGML v1.0//EN
CALSCALE:GREGORIAN
METHOD:PUBLISH
X-WR-CALNAME:The Fusilier Complex
X-ORIGINAL-URL:https://fusiliercomplex.com
X-WR-CALDESC:Events for The Fusilier Complex
REFRESH-INTERVAL;VALUE=DURATION:PT1H
X-Robots-Tag:noindex
X-PUBLISHED-TTL:PT1H
BEGIN:VTIMEZONE
TZID:America/Chicago
BEGIN:DAYLIGHT
TZOFFSETFROM:-0600
TZOFFSETTO:-0500
TZNAME:CDT
DTSTART:20240310T080000
END:DAYLIGHT
BEGIN:STANDARD
TZOFFSETFROM:-0500
TZOFFSETTO:-0600
TZNAME:CST
DTSTART:20241103T070000
END:STANDARD
BEGIN:DAYLIGHT
TZOFFSETFROM:-0600
TZOFFSETTO:-0500
TZNAME:CDT
DTSTART:20250309T080000
END:DAYLIGHT
BEGIN:STANDARD
TZOFFSETFROM:-0500
TZOFFSETTO:-0600
TZNAME:CST
DTSTART:20251102T070000
END:STANDARD
BEGIN:DAYLIGHT
TZOFFSETFROM:-0600
TZOFFSETTO:-0500
TZNAME:CDT
DTSTART:20260308T080000
END:DAYLIGHT
BEGIN:STANDARD
TZOFFSETFROM:-0500
TZOFFSETTO:-0600
TZNAME:CST
DTSTART:20261101T070000
END:STANDARD
END:VTIMEZONE
BEGIN:VEVENT
DTSTART;TZID=America/Chicago:20250802T080000
DTEND;TZID=America/Chicago:20250802T120000
DTSTAMP:20260421T175311
CREATED:20200721T215843Z
LAST-MODIFIED:20251003T164320Z
UID:6883-1754121600-1754136000@fusiliercomplex.com
SUMMARY:Work Day
DESCRIPTION:
URL:https://fusiliercomplex.com/event/work-day-2/2025-08-02/
END:VEVENT
BEGIN:VEVENT
DTSTART;TZID=America/Chicago:20250802T090000
DTEND;TZID=America/Chicago:20250802T100000
DTSTAMP:20260421T175311
CREATED:20200721T220255Z
LAST-MODIFIED:20251003T164123Z
UID:6884-1754125200-1754128800@fusiliercomplex.com
SUMMARY:Safety Orientation
DESCRIPTION:For new members
URL:https://fusiliercomplex.com/event/safety-orientation/2025-08-02/
END:VEVENT
BEGIN:VEVENT
DTSTART;TZID=America/Chicago:20250810T080000
DTEND;TZID=America/Chicago:20250810T130000
DTSTAMP:20260421T175311
CREATED:20250213T023627Z
LAST-MODIFIED:20250213T023627Z
UID:11947-1754812800-1754830800@fusiliercomplex.com
SUMMARY:ARAR15 Match
DESCRIPTION:AR15 American Rifle match (ARAR) \nDescription – 2025 \nAR15AmericanMatch@yahoo.com \n  \nThis competition is designed for shooters of all skill levels. The AR15 rifle style is owned by millions of Americans. \nIts purpose is to challenge your marksmanship skills\, increasing familiarity with your rifle\, its safe handling\, and the immediate resolving of failures when they happen (and they will) \nImportantly\, to improve marksmanship\, not from a steady bench and a deliberately slow fire which is the usual way targets are hit\, but from different\, dynamic stages more like ones used in real life. \nMost assuredly\, your skill level will improve\, a lot! \n  \nThe schedule and specs for the ARAR match are: \n\nCalendar of the ARAR for 2025 is:\n\nMarch 16 \nApril 13 \nMay 18 \nJune 8 \nJuly 13 \nAugust 10 \n\nThe competition consists of 8 stages\, 4 positions\, and 72 rounds fired.\nAny type of sight is permitted: iron\, optics no magnification\, and optics with magnification.\nThe targets are at distances of 100\, 50\, 25\, and 7 yards.\nThe bullseye is a 6” hexagon at all distances.\nFirst shot at 9:00 a.m. until finished.\nCost to competitor is $10 (Non-member’s fee is $20.00)\nThere is no drinking water\, food\, or ammo at the range.\n\n  \nFor queries email \nAR15AmericanMatch@yahoo.com \n  \nMauro Torellini \nMatch Director \nTFC (late HCRPC) member since 1992
URL:https://fusiliercomplex.com/event/arar15-match-5/
END:VEVENT
END:VCALENDAR