BEGIN:VCALENDAR
VERSION:2.0
PRODID:-//The Fusilier Complex - ECPv6.15.20//NONSGML v1.0//EN
CALSCALE:GREGORIAN
METHOD:PUBLISH
X-ORIGINAL-URL:https://fusiliercomplex.com
X-WR-CALDESC:Events for The Fusilier Complex
REFRESH-INTERVAL;VALUE=DURATION:PT1H
X-Robots-Tag:noindex
X-PUBLISHED-TTL:PT1H
BEGIN:VTIMEZONE
TZID:America/Chicago
BEGIN:DAYLIGHT
TZOFFSETFROM:-0600
TZOFFSETTO:-0500
TZNAME:CDT
DTSTART:20250309T080000
END:DAYLIGHT
BEGIN:STANDARD
TZOFFSETFROM:-0500
TZOFFSETTO:-0600
TZNAME:CST
DTSTART:20251102T070000
END:STANDARD
BEGIN:DAYLIGHT
TZOFFSETFROM:-0600
TZOFFSETTO:-0500
TZNAME:CDT
DTSTART:20260308T080000
END:DAYLIGHT
BEGIN:STANDARD
TZOFFSETFROM:-0500
TZOFFSETTO:-0600
TZNAME:CST
DTSTART:20261101T070000
END:STANDARD
BEGIN:DAYLIGHT
TZOFFSETFROM:-0600
TZOFFSETTO:-0500
TZNAME:CDT
DTSTART:20270314T080000
END:DAYLIGHT
BEGIN:STANDARD
TZOFFSETFROM:-0500
TZOFFSETTO:-0600
TZNAME:CST
DTSTART:20271107T070000
END:STANDARD
END:VTIMEZONE
BEGIN:VEVENT
DTSTART;TZID=America/Chicago:20260808T080000
DTEND;TZID=America/Chicago:20260808T150000
DTSTAMP:20260421T140256
CREATED:20260203T035707Z
LAST-MODIFIED:20260401T203005Z
UID:15879-1786176000-1786201200@fusiliercomplex.com
SUMMARY:Bayou Rows Precision Challenge
DESCRIPTION:We’re excited to announce that the Bayou Rows Precision Challenge will be hosted by The Fusilier Complex\, in conjunction with LPRC(range in Pioneer\, La) and A Team Precision.\nThis marks the beginning of the inaugural Outlaw season at the range\, focused on practical\, challenging stages designed to test real-world shooting skills—while remaining approachable for shooters of all experience levels.\n\n\n 2026 Outlaw Match Schedule\n• May 16\, 2026 – Fusilier Member-Only Tune-Up\n• June 27\, 2026 – 1st Outlaw Match\n• August 8\, 2026 – 2nd Outlaw Match\n• September 19\, 2026 – Louisiana Finale\n\n\n Points & Series Format\n• The points system will follow the traditional PRS-style format\, with points calculated based on each shooter’s score relative to the match winner.\n• Shooters may compete in as many matches as they choose throughout the season.\n• To crown the Best of Louisiana\, finale standings will be determined by a combination of each shooter’s top three match points.\n• We highly encourage shooters to compete in at least one match per facility\, supporting all host ranges and ensuring a well-rounded season. Host ranges are LPRC-Pioneer\, La and Bayou Rows/Fusilier Complex-Arnaudville\, La\n\n\n Loaner Rifle Information\n• Loaner rifles will be available upon request on a first-come\, first-served basis.\n• Shooters using a loaner rifle will be required to purchase ammunition from Bayou Sports.\n• All loaner rifles will be fully zeroed and verified out to 1\,000 yards\, and will be match-ready upon arrival.\n\n\nWhat to Expect\n• Well-thought-out stages utilizing a variety of props\n• Balanced par times\n• Emphasis on fundamentals\, problem-solving\, and consistency\n• A welcoming environment for both new and experienced shooters\n\n\nA big thank you to The Fusilier Complex\, LPRC\, and A Team Precision for partnering with us on this series.\nWe’d also like to sincerely thank our sponsors for helping make these matches possible:\n• Cajun Outdoors\n• Swampland Trading\n• BH Culverts\n• Comeaux Inc.\n• Sack Daddy’s Crawfish\n• River Parish Security Systems\n• And many more to come\n\n\n Location: Fusilier Shooting Complex\n Contact: bayourowsprecision@gmail.com\n More details\, registration information\, sponsorship\, and prize announcements coming soon—stay tuned!
URL:https://fusiliercomplex.com/event/bayou-rows-precision-challenge-2026-08-22/
END:VEVENT
END:VCALENDAR