BEGIN:VCALENDAR
VERSION:2.0
PRODID:-//The Fusilier Complex - ECPv6.15.20//NONSGML v1.0//EN
CALSCALE:GREGORIAN
METHOD:PUBLISH
X-WR-CALNAME:The Fusilier Complex
X-ORIGINAL-URL:https://fusiliercomplex.com
X-WR-CALDESC:Events for The Fusilier Complex
REFRESH-INTERVAL;VALUE=DURATION:PT1H
X-Robots-Tag:noindex
X-PUBLISHED-TTL:PT1H
BEGIN:VTIMEZONE
TZID:America/Chicago
BEGIN:DAYLIGHT
TZOFFSETFROM:-0600
TZOFFSETTO:-0500
TZNAME:CDT
DTSTART:20250309T080000
END:DAYLIGHT
BEGIN:STANDARD
TZOFFSETFROM:-0500
TZOFFSETTO:-0600
TZNAME:CST
DTSTART:20251102T070000
END:STANDARD
BEGIN:DAYLIGHT
TZOFFSETFROM:-0600
TZOFFSETTO:-0500
TZNAME:CDT
DTSTART:20260308T080000
END:DAYLIGHT
BEGIN:STANDARD
TZOFFSETFROM:-0500
TZOFFSETTO:-0600
TZNAME:CST
DTSTART:20261101T070000
END:STANDARD
BEGIN:DAYLIGHT
TZOFFSETFROM:-0600
TZOFFSETTO:-0500
TZNAME:CDT
DTSTART:20270314T080000
END:DAYLIGHT
BEGIN:STANDARD
TZOFFSETFROM:-0500
TZOFFSETTO:-0600
TZNAME:CST
DTSTART:20271107T070000
END:STANDARD
END:VTIMEZONE
BEGIN:VEVENT
DTSTART;TZID=America/Chicago:20260502T080000
DTEND;TZID=America/Chicago:20260502T120000
DTSTAMP:20260421T091107
CREATED:20200721T215843Z
LAST-MODIFIED:20251003T164325Z
UID:8812-1777708800-1777723200@fusiliercomplex.com
SUMMARY:Work Day
DESCRIPTION:
URL:https://fusiliercomplex.com/event/work-day-2/2026-05-02/
END:VEVENT
BEGIN:VEVENT
DTSTART;TZID=America/Chicago:20260502T090000
DTEND;TZID=America/Chicago:20260502T100000
DTSTAMP:20260421T091107
CREATED:20200721T220255Z
LAST-MODIFIED:20251003T164140Z
UID:8811-1777712400-1777716000@fusiliercomplex.com
SUMMARY:Safety Orientation
DESCRIPTION:For new members
URL:https://fusiliercomplex.com/event/safety-orientation/2026-05-02/
END:VEVENT
BEGIN:VEVENT
DTSTART;TZID=America/Chicago:20260502T123000
DTEND;TZID=America/Chicago:20260502T170000
DTSTAMP:20260421T091107
CREATED:20260325T232451Z
LAST-MODIFIED:20260325T233715Z
UID:16102-1777725000-1777741200@fusiliercomplex.com
SUMMARY:Louisiana High School Small Bore/Trap Rodeo
DESCRIPTION:Louisiana High School Small Bore/Trap Rodeo \nThis event is for LA High School students only and not open to the public or  club members. \nShot gun line and approximately half of the green range will be used.  Members using the Green line during this time will be subject to hot line/cold line rules as determined by the Rodeo match director
URL:https://fusiliercomplex.com/event/louisiana-high-school-small-bore-trap-rodeo-2026-05-02/2026-05-02/
END:VEVENT
END:VCALENDAR