BEGIN:VCALENDAR
VERSION:2.0
PRODID:-//The Fusilier Complex - ECPv6.15.20//NONSGML v1.0//EN
CALSCALE:GREGORIAN
METHOD:PUBLISH
X-ORIGINAL-URL:https://fusiliercomplex.com
X-WR-CALDESC:Events for The Fusilier Complex
REFRESH-INTERVAL;VALUE=DURATION:PT1H
X-Robots-Tag:noindex
X-PUBLISHED-TTL:PT1H
BEGIN:VTIMEZONE
TZID:America/Chicago
BEGIN:DAYLIGHT
TZOFFSETFROM:-0600
TZOFFSETTO:-0500
TZNAME:CDT
DTSTART:20240310T080000
END:DAYLIGHT
BEGIN:STANDARD
TZOFFSETFROM:-0500
TZOFFSETTO:-0600
TZNAME:CST
DTSTART:20241103T070000
END:STANDARD
BEGIN:DAYLIGHT
TZOFFSETFROM:-0600
TZOFFSETTO:-0500
TZNAME:CDT
DTSTART:20250309T080000
END:DAYLIGHT
BEGIN:STANDARD
TZOFFSETFROM:-0500
TZOFFSETTO:-0600
TZNAME:CST
DTSTART:20251102T070000
END:STANDARD
BEGIN:DAYLIGHT
TZOFFSETFROM:-0600
TZOFFSETTO:-0500
TZNAME:CDT
DTSTART:20260308T080000
END:DAYLIGHT
BEGIN:STANDARD
TZOFFSETFROM:-0500
TZOFFSETTO:-0600
TZNAME:CST
DTSTART:20261101T070000
END:STANDARD
END:VTIMEZONE
BEGIN:VEVENT
DTSTART;TZID=America/Chicago:20251012T080000
DTEND;TZID=America/Chicago:20251012T130000
DTSTAMP:20260421T160951
CREATED:20250805T030547Z
LAST-MODIFIED:20250805T030547Z
UID:13403-1760256000-1760274000@fusiliercomplex.com
SUMMARY:Whirling 22
DESCRIPTION:The Whirling .22s is a timed challenge\, designed for all everyday shooters without the need of special equipment or special training\, with rifles and pistols .22\, at targets that will whirl (spin) or move when hit. \nYou will perform accurate and fast shooting in a variety of conditions challenging gun enthusiasts. \nCompetition is open to any able body of sound mind 12 years old or older. Representative must be present. \nThese challenging Games also provide an ambient of camaraderie\, respect\, and self-control. \nTrophies and Certificates to 1st\, 2nd\, and 3rd places are awarded. \n  \nTargets for the Games are: \n  \nHanging Arms. Timed. Shoot each plate until hit\, then move on\, RIGHT TO LEFT. \nBrisk Lick. Timed. Compete against another. First to finish wins. \n  \nFeeble Shot. Timed. Target for pistol is big gong; rifle is small gong. Various stances. \n  \n  \nShooting Gallery. Timed. Moving plates left to right. \n  \n  \nDueling Post. Timed 44 seconds. Overpower competitor for most plates. \n  \nVincent. Timed 25 sec\, 20 shots. Hit all targets “clockwise:” Green\, Red\, Blue\, Red\, Blue\, Green. Again. \n  \n  \nBEST FAST BULLS. Timed 7 seconds. It is Fast! Score the max you can to win. \n  \nDates               \nSeptember 14 \nOctober 12 \nNovember 16 \nDecember 7 \nJanuary 11 \nFebruary 08 \n  \nTime of first shot:      9:00 am \nThe dates are shown in “Events” of The Fusilier Complex site: https://fusiliercomplex.com/ \n  \nWhere:  The Fusilier Complex range near Arnaudville\, LA. Directions at the “Events” tab. \n  \nAwards \nTitle of ”Summa”\, “Magna”\, & “Cum Laude” Whirler  to the three highest scores. \n  \nEntry Fees $10.00 (TFC non-members fee $20.00) \n  \nEquipment \nCaliber .22 rifle (2 mags of min. 10 shots each) and .22 pistol (2 mags of min. 10 shots each). \nEyes and ears protectors. \nNO .22 Magnum\, NO Hypervelocity .22\, NO .17\, NO 5.7 \nAmmunition   \nShooters will provide own ammunition. Soft nose lead .22 LR. \nAt least 280 rounds will be needed. Better bring more just in case. Ammunition is not available for sale at the games. \nNO .22 Magnum\, NO Hypervelocity .22\, NO .17\, NO 5.7 \n  \nRifles allowed              \nSemi-auto\, pump. Semi-auto is suggested. \nTwo 10 rounds (or more) magazines. \nAny sights: iron sights or optics. \nSling is allowed. \nPistols allowed            \nSemi-auto is a must. \nTwo 10 round (or more) magazines. \nAny sights: iron sights or optics. \n  \nGeneral information \nThe Pistol Only line will be used with non-participants as spectators. \nTargets will be between 7 yards and 15 yards. \nEye and hear protections are REQUIRED on the line and staging areas for any person at this event. \nThe .22 bullets WILL fragment upon impact on the metal so ricochets are NOT happening but a \nsliver of lead MAY come back to the firing line. \nThe backstop is the berm. Targets will be positioned in front of it and the berm will capture bullets. \nNo drinking water nor food available for sale at the range. \n  \n  \n  \nRULES \n  \nR1. Safety is a must. Anybody acting disruptively will be asked to leave immediately. His/her behavior may be reported to the appropriate authority. \nR2. All events have a time limit and a limited number of shots. In all stages the shots will be no more than 20 for rifle and 20 for pistol. \nR3. All events will be run sequentially and there will be only one or two whirlers in each stage and a Whirling 22s Spotter (W22S)\, who will report the number of hits. \nR4. Any whirler using more that the allotted rounds will have to rerun the stage or accept a zero score. Score is hits until time or ammo runs out. \nR5. In case of a tie\, one of the stages will be used until a winner emerges. The break-the-tie gun to be used\, rifle or pistol\, will be decided by the Whirling 22s Director (W22D). \nR6. Gun must be supported by whirler’s body parts only. \nR7. The course of fire will be given at the event and not before. \nR8. The course of fire may be altered at any time by the Whirling .22s Director. \nR9. Any protest or doubts on results will be decided by the Whirling .22s Director (W22D) with the assistance of the Whirling .22s Spotters (W22S) and Whirling .22s Participants (W22P). \nR10. A competitor MUST be able to hear and understand all the range commands at all times to be \nable to act in this Games. If not\, then he/she will not be allowed to participate. \nR11. If a competitor at the firing line does not understand or does not hear a command\, he/she must: \na – Refrain from shooting and make the gun safe\, or \nb – If there is time\, ask for clarifications.
URL:https://fusiliercomplex.com/event/whirling-22-2/
END:VEVENT
END:VCALENDAR