BEGIN:VCALENDAR
VERSION:2.0
PRODID:-//The Fusilier Complex - ECPv6.15.20//NONSGML v1.0//EN
CALSCALE:GREGORIAN
METHOD:PUBLISH
X-WR-CALNAME:The Fusilier Complex
X-ORIGINAL-URL:https://fusiliercomplex.com
X-WR-CALDESC:Events for The Fusilier Complex
REFRESH-INTERVAL;VALUE=DURATION:PT1H
X-Robots-Tag:noindex
X-PUBLISHED-TTL:PT1H
BEGIN:VTIMEZONE
TZID:America/Chicago
BEGIN:DAYLIGHT
TZOFFSETFROM:-0600
TZOFFSETTO:-0500
TZNAME:CDT
DTSTART:20240310T080000
END:DAYLIGHT
BEGIN:STANDARD
TZOFFSETFROM:-0500
TZOFFSETTO:-0600
TZNAME:CST
DTSTART:20241103T070000
END:STANDARD
BEGIN:DAYLIGHT
TZOFFSETFROM:-0600
TZOFFSETTO:-0500
TZNAME:CDT
DTSTART:20250309T080000
END:DAYLIGHT
BEGIN:STANDARD
TZOFFSETFROM:-0500
TZOFFSETTO:-0600
TZNAME:CST
DTSTART:20251102T070000
END:STANDARD
BEGIN:DAYLIGHT
TZOFFSETFROM:-0600
TZOFFSETTO:-0500
TZNAME:CDT
DTSTART:20260308T080000
END:DAYLIGHT
BEGIN:STANDARD
TZOFFSETFROM:-0500
TZOFFSETTO:-0600
TZNAME:CST
DTSTART:20261101T070000
END:STANDARD
END:VTIMEZONE
BEGIN:VEVENT
DTSTART;TZID=America/Chicago:20250726T080000
DTEND;TZID=America/Chicago:20250726T130000
DTSTAMP:20260421T203925
CREATED:20250725T190853Z
LAST-MODIFIED:20250725T190853Z
UID:13250-1753516800-1753534800@fusiliercomplex.com
SUMMARY:Long Range Rimfire Match
DESCRIPTION:Zero Range: 7:00 \nSafety Brief:  7:30 \nMatch Begins: 8:00 \nFee $10.00 \nWater Provided \nContact Keith Phillips with questions
URL:https://fusiliercomplex.com/event/long-range-rimfire-match-2/
END:VEVENT
END:VCALENDAR