BEGIN:VCALENDAR
VERSION:2.0
PRODID:-//The Fusilier Complex - ECPv6.15.20//NONSGML v1.0//EN
CALSCALE:GREGORIAN
METHOD:PUBLISH
X-ORIGINAL-URL:https://fusiliercomplex.com
X-WR-CALDESC:Events for The Fusilier Complex
REFRESH-INTERVAL;VALUE=DURATION:PT1H
X-Robots-Tag:noindex
X-PUBLISHED-TTL:PT1H
BEGIN:VTIMEZONE
TZID:America/Chicago
BEGIN:DAYLIGHT
TZOFFSETFROM:-0600
TZOFFSETTO:-0500
TZNAME:CDT
DTSTART:20240310T080000
END:DAYLIGHT
BEGIN:STANDARD
TZOFFSETFROM:-0500
TZOFFSETTO:-0600
TZNAME:CST
DTSTART:20241103T070000
END:STANDARD
BEGIN:DAYLIGHT
TZOFFSETFROM:-0600
TZOFFSETTO:-0500
TZNAME:CDT
DTSTART:20250309T080000
END:DAYLIGHT
BEGIN:STANDARD
TZOFFSETFROM:-0500
TZOFFSETTO:-0600
TZNAME:CST
DTSTART:20251102T070000
END:STANDARD
BEGIN:DAYLIGHT
TZOFFSETFROM:-0600
TZOFFSETTO:-0500
TZNAME:CDT
DTSTART:20260308T080000
END:DAYLIGHT
BEGIN:STANDARD
TZOFFSETFROM:-0500
TZOFFSETTO:-0600
TZNAME:CST
DTSTART:20261101T070000
END:STANDARD
END:VTIMEZONE
BEGIN:VEVENT
DTSTART;TZID=America/Chicago:20250614T080000
DTEND;TZID=America/Chicago:20250614T133000
DTSTAMP:20260421T230513
CREATED:20250609T132259Z
LAST-MODIFIED:20250609T132259Z
UID:12072-1749888000-1749907800@fusiliercomplex.com
SUMMARY:Action Steel Match
DESCRIPTION:Fusilier June 14 Action Steel Match\n(using Steel Challenge procedures)\n*** MEMBERS ONLY *** NO GUESTS ***\nPrice: $5 (cash only)\nYou must register via Practiscore (www.practiscore.com). See below.\n24 shooters maximum. One gun per shooter.\n*** NO WALKONS*** \nFast shooting at multiple (5 to 7) steel targets; 4 stages; each stage is shot 5 times with the slowest time being thrown out.\nAny pistol caliber or .22LR pistols or rifles allowed (no magnum\, no hypervelocity\, no .17s)\nCenterfire pistols may draw from OWB holster if available; all others will start from “low ready”.\n** Draw from concealment or inside the waistband holster is not allowed. **\nEvent starts at 9:00. Current members must present Action Bay qualification (blue card).\nCurrent members without blue cards must attend Action Bay certification at 8:00.\nIf using 10-round magazines:\n5 magazines recommended\, 3 MAGAZINE MINIMUM REQUIREMENT!\nPlan 150 rds\, more recommended\nCold range procedures will be in effect:\n–\nNO loaded weapons\n–\nPistols must be in a holster or bag/case\n–\nLong guns must have chamber flag inserted\nwww.practiscore.com\n1. Set up an account (FREE)\n2. Search for matches:\nThe Fusilier Complex\n3. Register at least one day prior to the\nmatch.\nYou do NOT have to be a member of USPSA\nMatch results are typically available on Practiscore shortly after the match.
URL:https://fusiliercomplex.com/event/action-steel-match-5/
END:VEVENT
END:VCALENDAR