BEGIN:VCALENDAR
VERSION:2.0
PRODID:-//The Fusilier Complex - ECPv6.15.20//NONSGML v1.0//EN
CALSCALE:GREGORIAN
METHOD:PUBLISH
X-ORIGINAL-URL:https://fusiliercomplex.com
X-WR-CALDESC:Events for The Fusilier Complex
REFRESH-INTERVAL;VALUE=DURATION:PT1H
X-Robots-Tag:noindex
X-PUBLISHED-TTL:PT1H
BEGIN:VTIMEZONE
TZID:America/Chicago
BEGIN:DAYLIGHT
TZOFFSETFROM:-0600
TZOFFSETTO:-0500
TZNAME:CDT
DTSTART:20210314T080000
END:DAYLIGHT
BEGIN:STANDARD
TZOFFSETFROM:-0500
TZOFFSETTO:-0600
TZNAME:CST
DTSTART:20211107T070000
END:STANDARD
BEGIN:DAYLIGHT
TZOFFSETFROM:-0600
TZOFFSETTO:-0500
TZNAME:CDT
DTSTART:20220313T080000
END:DAYLIGHT
BEGIN:STANDARD
TZOFFSETFROM:-0500
TZOFFSETTO:-0600
TZNAME:CST
DTSTART:20221106T070000
END:STANDARD
BEGIN:DAYLIGHT
TZOFFSETFROM:-0600
TZOFFSETTO:-0500
TZNAME:CDT
DTSTART:20230312T080000
END:DAYLIGHT
BEGIN:STANDARD
TZOFFSETFROM:-0500
TZOFFSETTO:-0600
TZNAME:CST
DTSTART:20231105T070000
END:STANDARD
END:VTIMEZONE
BEGIN:VEVENT
DTSTART;TZID=America/Chicago:20220911T100000
DTEND;TZID=America/Chicago:20220911T140000
DTSTAMP:20260422T045916
CREATED:20220911T200000Z
LAST-MODIFIED:20220829T164024Z
UID:4562-1662890400-1662904800@fusiliercomplex.com
SUMMARY:Whirling 22's
DESCRIPTION:The Whirling .22s is a timed challenge\, designed for all everyday shooters without the need of special equipment or special training\, with rifles and pistols .22\, at targets that will whirl (spin) or move when hit.\nYou will perform accurate and fast shooting in a variety of conditions challenging gun enthusiasts.\nCompetition is open to any able body of sound mind 12 years old or older. Representative must be present.\nThese challenging Games also provide an ambient of camaraderie\, respect\, and self-control.\nTrophies and Certificates to 1st \, 2nd \, and 3rd places are awarded. \nTargets for the Games are: \nHanging Arms. Timed. Shoot each plate until hit\, then move on\, RIGHT TO LEFT.\nBrisk Lick. Timed. Compete against another. First finish wins. \nFeeble Shot. Timed. Target for pistol is big gong; rifle is small gong. Various stances. \nShooting Gallery. Timed. Moving plates left to right. \nDueling Post. Overpower competitor for most plates. Timed. \nUp And Down. Timed. Put 4 paddles up and then put them down. Repeat… \nBULLS. Score the max you can to win. \nDates\nSeptember 11\nOctober 9\nNovember 13\nDecember 11\nJanuary 22\nFebruary 12 \nTime of first shot: 9:00 am \nThe dates are shown in “Events” of The Fusilier Complex site: \nWhere: The Fusilier Complex range near Arnaudville\, LA. Directions at the “Events” tab. \nAwards\nTitle of ”Summa”\, “Magna”\, & “Cum Laude” Whirler to the three highest scores. \nEntry Fees $10.00 (TFC non-members fee $20.00) \nEquipment\nCaliber .22 rifle (2 mags of min. 10 shots each) and .22 pistol (2 mags of 10 shots each).\nEyes and ears protectors.\nNO .22 Magnum\, NO Hypervelocity .22\, NO .17\, NO 5.7\nAmmunition\nShooters will provide own ammunition. Soft nose lead .22.\nAt least 330 rounds will be needed. Better bring more just in case. Ammunition is not available for sale at the games.\nNO .22 Magnum\, NO Hypervelocity .22\, NO .17\, NO 5.7 \nRifles allowed\nSemi-auto\, lever\, pump. Semi-auto is suggested.\nTwo 10 rounds (or more) magazines.\nAny sights: iron sights or optics.\nSling is allowed. \nPistols allowed\nSemi-auto is a must.\nTwo 10 round (or more) magazines.\nAny sights: iron sights or optics. \nGeneral information\nThe Pistol Only line will be used with non-participants as spectators.\nTargets will be between 10 yards and 15 yards.\nEye and hear protections are REQUIRED on the line and staging areas for any person at this event.\nThe .22 bullets WILL fragment upon impact on the metal so ricochets are NOT happening but a sliver of lead MAY come back to the firing line.\nThe backstop is the berm. Targets will be positioned in front of it and the berm will capture bullets.\nNo drinking water and food available at the range. \nFor questions or observations email Whirling22@yahoo.com \nRULES\nR1. Safety is a must. Anybody acting disruptively will be asked to leave immediately. His/her behavior may be reported to the appropriate authority.\nR2. All events have a time limit and a limited number of shots. In all stages the shots will be no more than 20 for rifle and 20 for pistol.\nR3. All events will be run sequentially and there will be only one or two whirlers in each stage and a Whirling 22s Spotter (W22S)\, who will report the number of hits.\nR4. Any whirler using more that the allotted rounds will have to rerun the stage or accept a zero score. Score is hits until time or ammo runs out.\nR5. In case of a tie\, one of the stages will be used until a winner emerges. The break-the-tie gun to be used\, rifle or pistol\, will be decided by the Whirling 22s Director (W22D).\nR6. Gun must be supported by whirler’s body parts only.\nR7. The course of fire will be given at the event and not before.\nR8. The course of fire may be altered at any time by the Whirling .22s Director.\nR9. Any protest or doubts on results will be decided by the Whirling .22s Director (W22D) with the assistance of the Whirling .22s Spotters (W22S) and Whirling .22s Participants (W22P).\nR10. A competitor MUST be able to hear and understand all the range commands at all times to be\nable to act in this Games. If not\, then he/she will not be allowed to participate.\nR11. If a competitor at the firing line does not understand or does not hear a command he/she must:\na – Refrain from shooting and make the gun safe\, or\nb – If there is time\, ask for clarifications. \nSuggested equipment for the Games \n  \nThe following is a recommended list of things to bring for the Games. \nYou may add those items that you think you will need. \n  \n\nRifle .22 semiauto\, pump\, or lever; 2 magazines 10 rounds or more each.\nPistol .22 semiauto; 2 magazines 10 rounds or more each.\n330 rounds .22 Std velocity.\n\nNO .22 Hypervelocity\, NO .22 MAG\,  NO .17\, NO 5.7 \n\nEar and eye protection; cap or hat.\nPockets or handbag to carry ammo + magazines + …\nPen or pencil to score your shots.\nThere is no drinking water\, food\, ammo at the range.\nEnthusiastic\, positive\, sparkling sportsmanship.\n\n  \nIn case of queries email me at Whirling22@yahoo.com
URL:https://fusiliercomplex.com/event/whirling-22s-2/2022-09-11/
LOCATION:The Fusilier Complex\, 301 Ismael Rd\, Arnaudville\, LA\, 70512\, United States
END:VEVENT
END:VCALENDAR