BEGIN:VCALENDAR
VERSION:2.0
PRODID:-//The Fusilier Complex - ECPv6.15.20//NONSGML v1.0//EN
CALSCALE:GREGORIAN
METHOD:PUBLISH
X-WR-CALNAME:The Fusilier Complex
X-ORIGINAL-URL:https://fusiliercomplex.com
X-WR-CALDESC:Events for The Fusilier Complex
REFRESH-INTERVAL;VALUE=DURATION:PT1H
X-Robots-Tag:noindex
X-PUBLISHED-TTL:PT1H
BEGIN:VTIMEZONE
TZID:America/Chicago
BEGIN:DAYLIGHT
TZOFFSETFROM:-0600
TZOFFSETTO:-0500
TZNAME:CDT
DTSTART:20220313T080000
END:DAYLIGHT
BEGIN:STANDARD
TZOFFSETFROM:-0500
TZOFFSETTO:-0600
TZNAME:CST
DTSTART:20221106T070000
END:STANDARD
BEGIN:DAYLIGHT
TZOFFSETFROM:-0600
TZOFFSETTO:-0500
TZNAME:CDT
DTSTART:20230312T080000
END:DAYLIGHT
BEGIN:STANDARD
TZOFFSETFROM:-0500
TZOFFSETTO:-0600
TZNAME:CST
DTSTART:20231105T070000
END:STANDARD
BEGIN:DAYLIGHT
TZOFFSETFROM:-0600
TZOFFSETTO:-0500
TZNAME:CDT
DTSTART:20240310T080000
END:DAYLIGHT
BEGIN:STANDARD
TZOFFSETFROM:-0500
TZOFFSETTO:-0600
TZNAME:CST
DTSTART:20241103T070000
END:STANDARD
END:VTIMEZONE
BEGIN:VEVENT
DTSTART;TZID=America/Chicago:20231104T100000
DTEND;TZID=America/Chicago:20231104T130000
DTSTAMP:20260422T033248
CREATED:20230419T175444Z
LAST-MODIFIED:20231026T121844Z
UID:7662-1699092000-1699102800@fusiliercomplex.com
SUMMARY:Long Range Qualifying Day
DESCRIPTION:The new Long Range is officially open for member use. \nThis event is to allow members to qualify to use the Long Range. \nIf you plan to attend\, please be there promptly for a review of the long range rules followed by live shooting qualifications.  Once live qualification shooting begins\, anyone arriving late will not be permitted to qualify. \n\nQualifying Requirements\n\nMust confirm zero on 100yd target board. (3 shot group)\nMust impact a 2.5 MOA Steel target at 400 yds then 600 yds with 3 of 5 rounds minimum per target.\nAssessor may coach shooter on wind and misses\nIf shooter fails to qualify\, the assessor may recommend a shooting clinic before reattempting or if assessor identifies small correction and chooses to educate / coach\, the shooter may re-attempt qualifying.\nUpon successful qualification the shooter will receive their certification card and key.\n\n\nRequired Equipment / D.O.P.E\n\nDialable turrets on scope – or –\nScope with known holdover reticle (applies to first focal and second focal plane scopes) – or –\nAdjustable Iron sights (High Power Shooter)\nBallistic Data or Ballistic App (Must know how use app calculations).\nKnown muzzle velocity – (Published velocity on factory ammo is not acceptable)\nNO Red Dot optics\n\n\nRifle caliber cartridges only the Long Range.\n\nMaximum .30 caliber permitted.\n3200 fps maximum velocity permitted\nPistol caliber cartridges in any platform may not be used on the Long Range\n\n\n\nThe established shooting distances are: \n\n100yds Zero Confirmation Target Board\n400yds – Steel and Target Board\n500 yds – Steel\n600 yds – Steel and Target Board\n850 yds – Steel\n925 yds – Steel\n1000yds – Steel and Target Board
URL:https://fusiliercomplex.com/event/long-range-qualifying-day-2023-11-04/2023-11-04/
END:VEVENT
END:VCALENDAR